BEGIN:VCALENDAR
VERSION:2.0
PRODID:-//Gauverband I - ECPv6.15.20//NONSGML v1.0//EN
CALSCALE:GREGORIAN
METHOD:PUBLISH
X-WR-CALNAME:Gauverband I
X-ORIGINAL-URL:https://gauverband1.de
X-WR-CALDESC:Veranstaltungen für Gauverband I
REFRESH-INTERVAL;VALUE=DURATION:PT1H
X-Robots-Tag:noindex
X-PUBLISHED-TTL:PT1H
BEGIN:VTIMEZONE
TZID:Europe/Paris
BEGIN:DAYLIGHT
TZOFFSETFROM:+0100
TZOFFSETTO:+0200
TZNAME:CEST
DTSTART:20250330T010000
END:DAYLIGHT
BEGIN:STANDARD
TZOFFSETFROM:+0200
TZOFFSETTO:+0100
TZNAME:CET
DTSTART:20251026T010000
END:STANDARD
BEGIN:DAYLIGHT
TZOFFSETFROM:+0100
TZOFFSETTO:+0200
TZNAME:CEST
DTSTART:20260329T010000
END:DAYLIGHT
BEGIN:STANDARD
TZOFFSETFROM:+0200
TZOFFSETTO:+0100
TZNAME:CET
DTSTART:20261025T010000
END:STANDARD
BEGIN:DAYLIGHT
TZOFFSETFROM:+0100
TZOFFSETTO:+0200
TZNAME:CEST
DTSTART:20270328T010000
END:DAYLIGHT
BEGIN:STANDARD
TZOFFSETFROM:+0200
TZOFFSETTO:+0100
TZNAME:CET
DTSTART:20271031T010000
END:STANDARD
END:VTIMEZONE
BEGIN:VEVENT
DTSTART;TZID=Europe/Paris:20260530T000000
DTEND;TZID=Europe/Paris:20260531T235959
DTSTAMP:20260423T120634
CREATED:20250312T193222Z
LAST-MODIFIED:20250312T193222Z
UID:174-1780099200-1780271999@gauverband1.de
SUMMARY:120-jähriges Gründungsfest G.T.E.V. "D'Chiemseer" Breitbrunn
DESCRIPTION:
URL:https://gauverband1.de/termine/120-jaehriges-gruendungsfest-g-t-e-v-dchiemseer-breitbrunn/
END:VEVENT
END:VCALENDAR