BEGIN:VCALENDAR
VERSION:2.0
PRODID:-//Gauverband I - ECPv6.15.20//NONSGML v1.0//EN
CALSCALE:GREGORIAN
METHOD:PUBLISH
X-WR-CALNAME:Gauverband I
X-ORIGINAL-URL:https://gauverband1.de
X-WR-CALDESC:Veranstaltungen für Gauverband I
REFRESH-INTERVAL;VALUE=DURATION:PT1H
X-Robots-Tag:noindex
X-PUBLISHED-TTL:PT1H
BEGIN:VTIMEZONE
TZID:Europe/Paris
BEGIN:DAYLIGHT
TZOFFSETFROM:+0100
TZOFFSETTO:+0200
TZNAME:CEST
DTSTART:20250330T010000
END:DAYLIGHT
BEGIN:STANDARD
TZOFFSETFROM:+0200
TZOFFSETTO:+0100
TZNAME:CET
DTSTART:20251026T010000
END:STANDARD
BEGIN:DAYLIGHT
TZOFFSETFROM:+0100
TZOFFSETTO:+0200
TZNAME:CEST
DTSTART:20260329T010000
END:DAYLIGHT
BEGIN:STANDARD
TZOFFSETFROM:+0200
TZOFFSETTO:+0100
TZNAME:CET
DTSTART:20261025T010000
END:STANDARD
BEGIN:DAYLIGHT
TZOFFSETFROM:+0100
TZOFFSETTO:+0200
TZNAME:CEST
DTSTART:20270328T010000
END:DAYLIGHT
BEGIN:STANDARD
TZOFFSETFROM:+0200
TZOFFSETTO:+0100
TZNAME:CET
DTSTART:20271031T010000
END:STANDARD
END:VTIMEZONE
BEGIN:VEVENT
DTSTART;TZID=Europe/Paris:20260815T000000
DTEND;TZID=Europe/Paris:20260816T235959
DTSTAMP:20260425T154416
CREATED:20250404T185930Z
LAST-MODIFIED:20250404T185930Z
UID:750-1786752000-1786924799@gauverband1.de
SUMMARY:GTEV Hochries-Samerberg Grainbach 130-jähriges Gründungsfest
DESCRIPTION:
URL:https://gauverband1.de/termine/gtev-hochries-samerberg-grainbach-130-jaehriges-gruendungsfest/
END:VEVENT
BEGIN:VEVENT
DTSTART;TZID=Europe/Paris:20260815T000000
DTEND;TZID=Europe/Paris:20260816T235959
DTSTAMP:20260425T154416
CREATED:20250417T144644Z
LAST-MODIFIED:20250417T144644Z
UID:791-1786752000-1786924799@gauverband1.de
SUMMARY:GTEV D'Grenzler Marzoll 125-jähriges Gründungfest
DESCRIPTION:
URL:https://gauverband1.de/termine/gtev-dgrenzler-marzoll-125-jaehriges-gruendungfest/
END:VEVENT
END:VCALENDAR