BEGIN:VCALENDAR
VERSION:2.0
PRODID:-//Gauverband I - ECPv6.15.20//NONSGML v1.0//EN
CALSCALE:GREGORIAN
METHOD:PUBLISH
X-WR-CALNAME:Gauverband I
X-ORIGINAL-URL:https://gauverband1.de
X-WR-CALDESC:Veranstaltungen für Gauverband I
REFRESH-INTERVAL;VALUE=DURATION:PT1H
X-Robots-Tag:noindex
X-PUBLISHED-TTL:PT1H
BEGIN:VTIMEZONE
TZID:Europe/Paris
BEGIN:DAYLIGHT
TZOFFSETFROM:+0100
TZOFFSETTO:+0200
TZNAME:CEST
DTSTART:20240331T010000
END:DAYLIGHT
BEGIN:STANDARD
TZOFFSETFROM:+0200
TZOFFSETTO:+0100
TZNAME:CET
DTSTART:20241027T010000
END:STANDARD
BEGIN:DAYLIGHT
TZOFFSETFROM:+0100
TZOFFSETTO:+0200
TZNAME:CEST
DTSTART:20250330T010000
END:DAYLIGHT
BEGIN:STANDARD
TZOFFSETFROM:+0200
TZOFFSETTO:+0100
TZNAME:CET
DTSTART:20251026T010000
END:STANDARD
BEGIN:DAYLIGHT
TZOFFSETFROM:+0100
TZOFFSETTO:+0200
TZNAME:CEST
DTSTART:20260329T010000
END:DAYLIGHT
BEGIN:STANDARD
TZOFFSETFROM:+0200
TZOFFSETTO:+0100
TZNAME:CET
DTSTART:20261025T010000
END:STANDARD
BEGIN:DAYLIGHT
TZOFFSETFROM:+0100
TZOFFSETTO:+0200
TZNAME:CEST
DTSTART:20270328T010000
END:DAYLIGHT
BEGIN:STANDARD
TZOFFSETFROM:+0200
TZOFFSETTO:+0100
TZNAME:CET
DTSTART:20271031T010000
END:STANDARD
END:VTIMEZONE
BEGIN:VEVENT
DTSTART;TZID=Europe/Paris:20260418T180000
DTEND;TZID=Europe/Paris:20260418T233000
DTSTAMP:20260423T140819
CREATED:20251013T160342Z
LAST-MODIFIED:20251013T160342Z
UID:1595-1776535200-1776555000@gauverband1.de
SUMMARY:Gesamtbairisches Tanzfest in Hinterskirchen
DESCRIPTION:Gesamtbairisches Tanzfest in der Rampl-Festhalle in Hinterskirchen \n 
URL:https://gauverband1.de/termine/gesamtbairisches-tanzfest-in-hinterskirchen/
END:VEVENT
BEGIN:VEVENT
DTSTART;TZID=Europe/Paris:20260412T000000
DTEND;TZID=Europe/Paris:20260412T235959
DTSTAMP:20260423T140819
CREATED:20251004T143222Z
LAST-MODIFIED:20251007T143209Z
UID:1580-1775952000-1776038399@gauverband1.de
SUMMARY:Jugendleitertagung in Bergen
DESCRIPTION:
URL:https://gauverband1.de/termine/jugendleitertagung-in-bergen/
END:VEVENT
BEGIN:VEVENT
DTSTART;TZID=Europe/Paris:20260328T130000
DTEND;TZID=Europe/Paris:20260328T160000
DTSTAMP:20260423T140819
CREATED:20251218T203211Z
LAST-MODIFIED:20251223T181855Z
UID:1650-1774702800-1774713600@gauverband1.de
SUMMARY:Mitgliederversammlung Förderverein Trachtenkulturzentrum Holzhausen e. V.
DESCRIPTION:Mitgliederversammlung mit Neuwahlen in der Gaststätte Rampl\, Hinterskirchen
URL:https://gauverband1.de/termine/mitgliederversammlung-foerderverein-trachtenkulturzentrum-holzhausen-e-v-2/
END:VEVENT
BEGIN:VEVENT
DTSTART;TZID=Europe/Paris:20260322T000000
DTEND;TZID=Europe/Paris:20260322T235959
DTSTAMP:20260423T140819
CREATED:20250312T192952Z
LAST-MODIFIED:20251004T142136Z
UID:169-1774137600-1774223999@gauverband1.de
SUMMARY:Gaufrühjahrsversammlung in Traunstein
DESCRIPTION:
URL:https://gauverband1.de/termine/gaufruehjahrsversammlung-2/
LOCATION:Aula der Berufsschule\, Wasserburger Str. 52\, Traunstein\, 83278
END:VEVENT
BEGIN:VEVENT
DTSTART;TZID=Europe/Paris:20260306T000000
DTEND;TZID=Europe/Paris:20260308T235959
DTSTAMP:20260423T140819
CREATED:20251004T143110Z
LAST-MODIFIED:20251004T143110Z
UID:1578-1772755200-1773014399@gauverband1.de
SUMMARY:Jugendleiterseminar in Brannenburg
DESCRIPTION:
URL:https://gauverband1.de/termine/jugendleiterseminar-in-brannenburg/
END:VEVENT
BEGIN:VEVENT
DTSTART;TZID=Europe/Paris:20260208T110000
DTEND;TZID=Europe/Paris:20260208T235900
DTSTAMP:20260423T140819
CREATED:20250312T192835Z
LAST-MODIFIED:20251113T080820Z
UID:165-1770548400-1770595140@gauverband1.de
SUMMARY:Rupertigau-Preisschnalzen Allgemeinpassen
DESCRIPTION:Rupertigau-Preisschnalzen in Kirchanschöring
URL:https://gauverband1.de/termine/rupertigau-preisschnalzen-allgemeinpassen/
ATTACH;FMTTYPE=image/png:https://gauverband1.de/wp-content/uploads/2025/03/Plakat-RPS-mit-Beginnzeiten.png
END:VEVENT
BEGIN:VEVENT
DTSTART;TZID=Europe/Paris:20260207T120000
DTEND;TZID=Europe/Paris:20260207T235900
DTSTAMP:20260423T140819
CREATED:20250312T192724Z
LAST-MODIFIED:20251113T080559Z
UID:163-1770465600-1770508740@gauverband1.de
SUMMARY:Rupertigau-Preisschnalzen Jugendpassen
DESCRIPTION:Rupertigau-Preisschnalzen in Kirchanschöring
URL:https://gauverband1.de/termine/rupertigau-preisschnalzen-jugendpassen/
ATTACH;FMTTYPE=image/png:https://gauverband1.de/wp-content/uploads/2025/03/Plakat-RPS-mit-Beginnzeiten.png
END:VEVENT
BEGIN:VEVENT
DTSTART;TZID=Europe/Paris:20260123T000000
DTEND;TZID=Europe/Paris:20260125T235959
DTSTAMP:20260423T140819
CREATED:20251029T184122Z
LAST-MODIFIED:20251029T184122Z
UID:1624-1769126400-1769385599@gauverband1.de
SUMMARY:VOLKSMUSIKSEMINAR 23. -25. JANUAR 2026 Amalienhof Honau|Obing
DESCRIPTION:https://volksmusikseminar-honau.jimdosite.com/
URL:https://gauverband1.de/termine/volksmusikseminar-23-25-januar-2026-amalienhof-honauobing/
END:VEVENT
BEGIN:VEVENT
DTSTART;TZID=Europe/Paris:20251122T100000
DTEND;TZID=Europe/Paris:20251122T160000
DTSTAMP:20260423T140819
CREATED:20251013T155929Z
LAST-MODIFIED:20251013T155929Z
UID:1593-1763805600-1763827200@gauverband1.de
SUMMARY:Sprecher- und Ansagerkurs
DESCRIPTION:Sprecher- und Ansagerkurs im Vereinsheim Laufen mit Hansl Auer \nAnmeldung bei Marianne Heidenthaler \nmarianne.heidenthaler@t-online.de
URL:https://gauverband1.de/termine/sprecher-und-ansagerkurs/
END:VEVENT
BEGIN:VEVENT
DTSTART;TZID=Europe/Paris:20251024T000000
DTEND;TZID=Europe/Paris:20251024T235959
DTSTAMP:20260423T140819
CREATED:20250309T170416Z
LAST-MODIFIED:20250309T170416Z
UID:159-1761264000-1761350399@gauverband1.de
SUMMARY:Gauversammlung mit Vorständebesprechung
DESCRIPTION:
URL:https://gauverband1.de/termine/gauversammlung-mit-vorstaendebesprechung/
LOCATION:Dorfstadl Prutting\, Am Sportplatz 2\, Prutting\, 83134
END:VEVENT
END:VCALENDAR