BEGIN:VCALENDAR
VERSION:2.0
PRODID:-//Gauverband I - ECPv6.15.20//NONSGML v1.0//EN
CALSCALE:GREGORIAN
METHOD:PUBLISH
X-ORIGINAL-URL:https://gauverband1.de
X-WR-CALDESC:Veranstaltungen für Gauverband I
REFRESH-INTERVAL;VALUE=DURATION:PT1H
X-Robots-Tag:noindex
X-PUBLISHED-TTL:PT1H
BEGIN:VTIMEZONE
TZID:Europe/Paris
BEGIN:DAYLIGHT
TZOFFSETFROM:+0100
TZOFFSETTO:+0200
TZNAME:CEST
DTSTART:20250330T010000
END:DAYLIGHT
BEGIN:STANDARD
TZOFFSETFROM:+0200
TZOFFSETTO:+0100
TZNAME:CET
DTSTART:20251026T010000
END:STANDARD
BEGIN:DAYLIGHT
TZOFFSETFROM:+0100
TZOFFSETTO:+0200
TZNAME:CEST
DTSTART:20260329T010000
END:DAYLIGHT
BEGIN:STANDARD
TZOFFSETFROM:+0200
TZOFFSETTO:+0100
TZNAME:CET
DTSTART:20261025T010000
END:STANDARD
BEGIN:DAYLIGHT
TZOFFSETFROM:+0100
TZOFFSETTO:+0200
TZNAME:CEST
DTSTART:20270328T010000
END:DAYLIGHT
BEGIN:STANDARD
TZOFFSETFROM:+0200
TZOFFSETTO:+0100
TZNAME:CET
DTSTART:20271031T010000
END:STANDARD
END:VTIMEZONE
BEGIN:VEVENT
DTSTART;TZID=Europe/Paris:20260306T000000
DTEND;TZID=Europe/Paris:20260308T235959
DTSTAMP:20260423T105312
CREATED:20251004T143110Z
LAST-MODIFIED:20251004T143110Z
UID:1578-1772755200-1773014399@gauverband1.de
SUMMARY:Jugendleiterseminar in Brannenburg
DESCRIPTION:
URL:https://gauverband1.de/termine/jugendleiterseminar-in-brannenburg/
END:VEVENT
BEGIN:VEVENT
DTSTART;TZID=Europe/Paris:20260322T000000
DTEND;TZID=Europe/Paris:20260322T235959
DTSTAMP:20260423T105312
CREATED:20250312T192952Z
LAST-MODIFIED:20251004T142136Z
UID:169-1774137600-1774223999@gauverband1.de
SUMMARY:Gaufrühjahrsversammlung in Traunstein
DESCRIPTION:
URL:https://gauverband1.de/termine/gaufruehjahrsversammlung-2/
LOCATION:Aula der Berufsschule\, Wasserburger Str. 52\, Traunstein\, 83278
END:VEVENT
BEGIN:VEVENT
DTSTART;TZID=Europe/Paris:20260328T130000
DTEND;TZID=Europe/Paris:20260328T160000
DTSTAMP:20260423T105312
CREATED:20251218T203211Z
LAST-MODIFIED:20251223T181855Z
UID:1650-1774702800-1774713600@gauverband1.de
SUMMARY:Mitgliederversammlung Förderverein Trachtenkulturzentrum Holzhausen e. V.
DESCRIPTION:Mitgliederversammlung mit Neuwahlen in der Gaststätte Rampl\, Hinterskirchen
URL:https://gauverband1.de/termine/mitgliederversammlung-foerderverein-trachtenkulturzentrum-holzhausen-e-v-2/
END:VEVENT
END:VCALENDAR