BEGIN:VCALENDAR
VERSION:2.0
PRODID:-//Gauverband I - ECPv6.15.20//NONSGML v1.0//EN
CALSCALE:GREGORIAN
METHOD:PUBLISH
X-WR-CALNAME:Gauverband I
X-ORIGINAL-URL:https://gauverband1.de
X-WR-CALDESC:Veranstaltungen für Gauverband I
REFRESH-INTERVAL;VALUE=DURATION:PT1H
X-Robots-Tag:noindex
X-PUBLISHED-TTL:PT1H
BEGIN:VTIMEZONE
TZID:Europe/Paris
BEGIN:DAYLIGHT
TZOFFSETFROM:+0100
TZOFFSETTO:+0200
TZNAME:CEST
DTSTART:20250330T010000
END:DAYLIGHT
BEGIN:STANDARD
TZOFFSETFROM:+0200
TZOFFSETTO:+0100
TZNAME:CET
DTSTART:20251026T010000
END:STANDARD
BEGIN:DAYLIGHT
TZOFFSETFROM:+0100
TZOFFSETTO:+0200
TZNAME:CEST
DTSTART:20260329T010000
END:DAYLIGHT
BEGIN:STANDARD
TZOFFSETFROM:+0200
TZOFFSETTO:+0100
TZNAME:CET
DTSTART:20261025T010000
END:STANDARD
BEGIN:DAYLIGHT
TZOFFSETFROM:+0100
TZOFFSETTO:+0200
TZNAME:CEST
DTSTART:20270328T010000
END:DAYLIGHT
BEGIN:STANDARD
TZOFFSETFROM:+0200
TZOFFSETTO:+0100
TZNAME:CET
DTSTART:20271031T010000
END:STANDARD
END:VTIMEZONE
BEGIN:VEVENT
DTSTART;TZID=Europe/Paris:20260613T000000
DTEND;TZID=Europe/Paris:20260614T235959
DTSTAMP:20260423T120633
CREATED:20250312T193327Z
LAST-MODIFIED:20260310T124552Z
UID:176-1781308800-1781481599@gauverband1.de
SUMMARY:80-jähriges Gründungsfest G.T.E.V. "Almröserl" Oberneukirchen
DESCRIPTION:
URL:https://gauverband1.de/termine/80-jaehriges-gruendungsfest-g-t-e-v-almroeserl-oberneukrichen/
END:VEVENT
BEGIN:VEVENT
DTSTART;TZID=Europe/Paris:20260613T090000
DTEND;TZID=Europe/Paris:20260613T170000
DTSTAMP:20260423T120633
CREATED:20260122T144236Z
LAST-MODIFIED:20260122T144236Z
UID:1674-1781341200-1781370000@gauverband1.de
SUMMARY:Gebietspreisplatteln Gebiet Simssee\, Kohlstatt Gde. Riedering\, Zimmerei Vordermayer
DESCRIPTION:
URL:https://gauverband1.de/termine/gebietspreisplatteln-gebiet-simssee-kohlstatt-gde-riedering-zimmerei-vordermayer/
END:VEVENT
BEGIN:VEVENT
DTSTART;TZID=Europe/Paris:20260620T000000
DTEND;TZID=Europe/Paris:20260621T235959
DTSTAMP:20260423T120633
CREATED:20250312T193409Z
LAST-MODIFIED:20250318T211243Z
UID:178-1781913600-1782086399@gauverband1.de
SUMMARY:125-jähriges Gründungsfest G.T.E.V. "D'Alztaler" Truchtlaching
DESCRIPTION:
URL:https://gauverband1.de/termine/125-jaehriges-gruendungsfest-g-t-e-v-dalztaler-truchtlaching/
END:VEVENT
BEGIN:VEVENT
DTSTART;TZID=Europe/Paris:20260620T000000
DTEND;TZID=Europe/Paris:20260621T235959
DTSTAMP:20260423T120633
CREATED:20250312T193522Z
LAST-MODIFIED:20250312T193522Z
UID:180-1781913600-1782086399@gauverband1.de
SUMMARY:136-jähriges Gründungsfest G.T.E.V. "D'Sulzbergler" Litzldorf
DESCRIPTION:
URL:https://gauverband1.de/termine/136-jaehriges-gruendungsfest-g-t-e-v-dsulzbergler-litzldorf/
END:VEVENT
BEGIN:VEVENT
DTSTART;TZID=Europe/Paris:20260621T000000
DTEND;TZID=Europe/Paris:20260621T235959
DTSTAMP:20260423T120633
CREATED:20260324T083529Z
LAST-MODIFIED:20260324T083538Z
UID:1799-1782000000-1782086399@gauverband1.de
SUMMARY:80-jähriges Gründungsfest G.T.E.V. "D´Heulandler" Törring
DESCRIPTION:
URL:https://gauverband1.de/termine/80-jaehriges-gruendungsfest-g-t-e-v-dheulandler-toerring/
END:VEVENT
END:VCALENDAR